BEGIN:VCALENDAR
VERSION:2.0
PRODID:-//Idaho Charitable Events Connecting Charities and Events - ECPv5.9.1//NONSGML v1.0//EN
CALSCALE:GREGORIAN
METHOD:PUBLISH
X-WR-CALNAME:Idaho Charitable Events Connecting Charities and Events
X-ORIGINAL-URL:https://www.idahocharitableevents.org
X-WR-CALDESC:Events for Idaho Charitable Events Connecting Charities and Events
BEGIN:VTIMEZONE
TZID:UTC
BEGIN:STANDARD
TZOFFSETFROM:+0000
TZOFFSETTO:+0000
TZNAME:UTC
DTSTART:20170101T000000
END:STANDARD
END:VTIMEZONE
BEGIN:VEVENT
DTSTART;TZID=UTC:20170423T110000
DTEND;TZID=UTC:20170423T110000
DTSTAMP:20260422T013704
CREATED:20170329T020817Z
LAST-MODIFIED:20170329T020817Z
UID:1332-1492945200-1492945200@www.idahocharitableevents.org
SUMMARY:12th Annual Sweet-Ola Ride Auction and BBQ
DESCRIPTION:Sunday 4/23:\n12th Annual Sweet-Ola Ride/Auction and BBQ presented by Boise Valley POW/MIA Corporation\, at the Triangle in Sweet\, ID. All money raised will go to support the National League of POW/MIA Families to continue the fight to bring home our unreturned Veterans. Ride Staging at 0930-1100 at Fred Meyer 1400 W. Chinden (Linder). Opening Ceremony 1pm with presentation of POW/MIA Missing Man Table. Lots of nice items on the auction block. Advanced BBQ tickets $10\, or $15 the week of the event. Live and Silent Auction from 1:30-4pm. Until they are all home\, “You Are Not Forgotten”! For more information contact 208-590-8852.
URL:https://www.idahocharitableevents.org/event/12th-annual-sweet-ola-ride-auction-and-bbq/
LOCATION:Triangle Restaurant\, 8770 ID 52 Sweet\, ID\, 83670\, United States
GEO:43.9478979;-116.341077
X-APPLE-STRUCTURED-LOCATION;VALUE=URI;X-ADDRESS=Triangle Restaurant 8770 ID 52 Sweet ID 83670 United States;X-APPLE-RADIUS=500;X-TITLE=8770 ID 52 Sweet:geo:-116.341077,43.9478979
END:VEVENT
END:VCALENDAR