BEGIN:VCALENDAR
VERSION:2.0
PRODID:-//Idaho Charitable Events Connecting Charities and Events - ECPv5.9.1//NONSGML v1.0//EN
CALSCALE:GREGORIAN
METHOD:PUBLISH
X-WR-CALNAME:Idaho Charitable Events Connecting Charities and Events
X-ORIGINAL-URL:https://www.idahocharitableevents.org
X-WR-CALDESC:Events for Idaho Charitable Events Connecting Charities and Events
BEGIN:VTIMEZONE
TZID:UTC
BEGIN:STANDARD
TZOFFSETFROM:+0000
TZOFFSETTO:+0000
TZNAME:UTC
DTSTART:20170101T000000
END:STANDARD
END:VTIMEZONE
BEGIN:VEVENT
DTSTART;TZID=UTC:20170429T190000
DTEND;TZID=UTC:20170429T230000
DTSTAMP:20260424T101043
CREATED:20170420T015916Z
LAST-MODIFIED:20170420T020233Z
UID:1697-1493492400-1493506800@www.idahocharitableevents.org
SUMMARY:SBLC Gala 2017 in Horseshoe Bend
DESCRIPTION:SBLC GALA 2017\nTake an adventure across the globe at a cocktail-style celebration with international cuisine\, music throughout the ages\, and chances to win out-of-this-world raffle showcases and live auction prizes! Mingle with some of Baltimore’s finest\, including recent SBLC graduates and their supportive family members\, and show your support for the power of adult literacy to open new worlds of possibility.\nOur friend\, Fox 45 Chief Meteorologist Vytas Reid\, will serve as our emcee and captain for our 18th annual gala. Toast our honoree\, The Neuman Family\, for their longtime commitment\, dedication and support for the Center and our adult learners. Join us in reaching our fundraising goal of $85\,000 while traveling station to station tasting dishes from DaMimmo’s\, DiPasquale’s\, Matsuri\, Soul Kuisine Cafe and more!
URL:https://www.idahocharitableevents.org/event/1697/
LOCATION:Horseshoe Casino Baltimore\, Horseshoe Bend\, ID\, United States
GEO:43.9146123;-116.1979025
END:VEVENT
END:VCALENDAR