BEGIN:VCALENDAR
VERSION:2.0
PRODID:-//Idaho Charitable Events Connecting Charities and Events - ECPv5.9.1//NONSGML v1.0//EN
CALSCALE:GREGORIAN
METHOD:PUBLISH
X-WR-CALNAME:Idaho Charitable Events Connecting Charities and Events
X-ORIGINAL-URL:https://www.idahocharitableevents.org
X-WR-CALDESC:Events for Idaho Charitable Events Connecting Charities and Events
BEGIN:VTIMEZONE
TZID:America/Boise
BEGIN:DAYLIGHT
TZOFFSETFROM:-0700
TZOFFSETTO:-0600
TZNAME:MDT
DTSTART:20240310T090000
END:DAYLIGHT
BEGIN:STANDARD
TZOFFSETFROM:-0600
TZOFFSETTO:-0700
TZNAME:MST
DTSTART:20241103T080000
END:STANDARD
END:VTIMEZONE
BEGIN:VEVENT
DTSTART;VALUE=DATE:20240629
DTEND;VALUE=DATE:20240630
DTSTAMP:20260424T023112
CREATED:20240130T232343Z
LAST-MODIFIED:20240130T232343Z
UID:4076-1719619200-1719705599@www.idahocharitableevents.org
SUMMARY:2024 Relay for Life of Treasure Valley
DESCRIPTION:American Cancer Society Relay for Life to:\n1) Raise funds for cancer prevention and research\n2) To honor cancer survivors\n3) Support those fighting cancer and their caregivers\n4) Remember our loved ones we have lost to cance
URL:https://www.idahocharitableevents.org/event/2024-relay-for-life-of-treasure-valley/
LOCATION:Discovery Park\, 2121 E Lake Hazel Rd\, Meridian\, ID\, 83642\, United States
ATTACH;FMTTYPE=image/jpeg:https://www.idahocharitableevents.org/wp-content/uploads/2024/01/download.jpg
ORGANIZER;CN="American%20Cancer%20Society":MAILTO:wendy.fisher@cancer.org
GEO:43.5459518;-116.3683919
X-APPLE-STRUCTURED-LOCATION;VALUE=URI;X-ADDRESS=Discovery Park 2121 E Lake Hazel Rd Meridian ID 83642 United States;X-APPLE-RADIUS=500;X-TITLE=2121 E Lake Hazel Rd:geo:-116.3683919,43.5459518
END:VEVENT
END:VCALENDAR