BEGIN:VCALENDAR
VERSION:2.0
PRODID:-//Idaho Charitable Events Connecting Charities and Events - ECPv5.9.1//NONSGML v1.0//EN
CALSCALE:GREGORIAN
METHOD:PUBLISH
X-WR-CALNAME:Idaho Charitable Events Connecting Charities and Events
X-ORIGINAL-URL:https://www.idahocharitableevents.org
X-WR-CALDESC:Events for Idaho Charitable Events Connecting Charities and Events
BEGIN:VTIMEZONE
TZID:UTC
BEGIN:STANDARD
TZOFFSETFROM:+0000
TZOFFSETTO:+0000
TZNAME:UTC
DTSTART:20170101T000000
END:STANDARD
END:VTIMEZONE
BEGIN:VEVENT
DTSTART;TZID=UTC:20170430T130000
DTEND;TZID=UTC:20170430T160000
DTSTAMP:20260424T115605
CREATED:20170329T022600Z
LAST-MODIFIED:20170329T023143Z
UID:1347-1493557200-1493568000@www.idahocharitableevents.org
SUMMARY:3rd Annual POOCH PAGEANT (Doggie Beauty Pageant)
DESCRIPTION:Family Friendly event. 2017 Fundraiser for the Idaho Humane Society’s Pet Food Pantry. All new this year 3 Supreme titles. 2 categories. Glitz (dressed up) Glitz Supreme or Natural (no outfit or accessories)Natural Supreme. Also our Ultimate Grand Supreme (High point pooch) We have more than 15 Titles and Awards this year. Entertainment this year is the singing group “The Runaway Hamsters” and “The Dancing dogs of Boise”. Our emcee is Robert Wolff author of “I know why Dog is God spelled backwards”. Our 2017 Pooch of the Year is K-9 Officer “Jardo” in Nov. 2016 Jardo lost his life protecting his fellow Officers. We are having a Pet Food drive where you can have a bin at your business for 2 to 4 weeks.You can also bring pet food to the pageant.We really are in need of Cat food\, treats\, and litter. Small bits dog food as well. Every Contestant (Pooch) gets a swag bag. We are having a silent auction\, basket raffle\, bake sale\, and a few vendors.We have a BIGGER and BETTER Pageant planned this year. All indoors and a Awesome new venue. Check out our ALL NEW website and find us on Facebook. We are still looking for Sponsors\, Volunteers and Contestants.Swag bags value $40.Other prizes. Glitz Supreme wins Md Trophy\, Crown and Sash. Goodie bag value up to $100 1st and 2nd runner ups receive sm trophy and sash with a goodie jar. . Natural Supreme wins Md Trophy\, Crown and Sash. Goodie bag value up to $100 1st and 2nd runner ups receive sm trophy and sash with a goodie jar. Ultimate Grand Supreme receives Lg Trophy\, Crown and Sash.Goodie bag value up to $100 The side awards get a sash and goodie jar.
URL:https://www.idahocharitableevents.org/event/3rd-annual-pooch-pageant-doggie-beauty-pageant/
LOCATION:Wyndham Garden Conferance Center\, 3300 S. Vista ave.\, Boise\, ID\, 83705\, United States
GEO:43.5724441;-116.2137513
X-APPLE-STRUCTURED-LOCATION;VALUE=URI;X-ADDRESS=Wyndham Garden Conferance Center 3300 S. Vista ave. Boise ID 83705 United States;X-APPLE-RADIUS=500;X-TITLE=3300 S. Vista ave.:geo:-116.2137513,43.5724441
END:VEVENT
END:VCALENDAR