BEGIN:VCALENDAR
VERSION:2.0
PRODID:-//Idaho Charitable Events Connecting Charities and Events - ECPv5.9.1//NONSGML v1.0//EN
CALSCALE:GREGORIAN
METHOD:PUBLISH
X-WR-CALNAME:Idaho Charitable Events Connecting Charities and Events
X-ORIGINAL-URL:https://www.idahocharitableevents.org
X-WR-CALDESC:Events for Idaho Charitable Events Connecting Charities and Events
BEGIN:VTIMEZONE
TZID:America/Boise
BEGIN:DAYLIGHT
TZOFFSETFROM:-0700
TZOFFSETTO:-0600
TZNAME:MDT
DTSTART:20240310T090000
END:DAYLIGHT
BEGIN:STANDARD
TZOFFSETFROM:-0600
TZOFFSETTO:-0700
TZNAME:MST
DTSTART:20241103T080000
END:STANDARD
END:VTIMEZONE
BEGIN:VEVENT
DTSTART;TZID=America/Boise:20240831T110000
DTEND;TZID=America/Boise:20240831T210000
DTSTAMP:20260422T014250
CREATED:20240529T175027Z
LAST-MODIFIED:20240826T213926Z
UID:4093-1725102000-1725138000@www.idahocharitableevents.org
SUMMARY:4th Annual Boise River Floatilla- Honoring SUP Pioneer Scott Gray
DESCRIPTION:Please join us for the 4th Annual Boise River Floatilla – Scott Gray Memorial Float!\nWe are planning a group float on the last day to float the river. Starting at Barber Park to put in rafts in around noon and float to Ann Morrison Park. The celebration will end across the bridge from Ann Morrison Park at Green Acres Mobile Food 1401 Shoreline Drive. If you are not in the mood to float\, you can head straight to the park for GREAT music\, yard games\, food and drinks. \nPLEASE NOTE\, RAFTS WILL NOT BE PROVIDED. IF YOU PLAN ON JOINING FOR THE FLOAT PLEASE MAKE YOUR OWN RIVER ACCOMMODATIONS. THE MAIN EVENT IS AT GREEN ACRES\, PLEASE TREAT THE FLOAT LIKE ANY OTHER DAY ON THE RIVER.  \n11:00 AM to 1:00 PM Boise School of Rock\n1:20 PM to 3:20 PM Various Lazy\n3:40 PM to 5:40 PM Allegedly\n6:00 PM to 9:00 PM Matt Hopper & The Roman Candles
URL:https://www.idahocharitableevents.org/event/4th-annual-scott-gray-memorial-floatilla/
LOCATION:Green Acre Mobile Food\, 1401 Shoreline Drive\, Boise\, ID\, 83702\, United States
ATTACH;FMTTYPE=image/png:https://www.idahocharitableevents.org/wp-content/uploads/2024/05/Boise-River-Floatilla-Logo-Color.png
GEO:43.6146085;-116.2197063
X-APPLE-STRUCTURED-LOCATION;VALUE=URI;X-ADDRESS=Green Acre Mobile Food 1401 Shoreline Drive Boise ID 83702 United States;X-APPLE-RADIUS=500;X-TITLE=1401 Shoreline Drive:geo:-116.2197063,43.6146085
END:VEVENT
END:VCALENDAR