BEGIN:VCALENDAR
VERSION:2.0
PRODID:-//Idaho Charitable Events Connecting Charities and Events - ECPv5.9.1//NONSGML v1.0//EN
CALSCALE:GREGORIAN
METHOD:PUBLISH
X-WR-CALNAME:Idaho Charitable Events Connecting Charities and Events
X-ORIGINAL-URL:https://www.idahocharitableevents.org
X-WR-CALDESC:Events for Idaho Charitable Events Connecting Charities and Events
BEGIN:VTIMEZONE
TZID:UTC
BEGIN:STANDARD
TZOFFSETFROM:+0000
TZOFFSETTO:+0000
TZNAME:UTC
DTSTART:20170101T000000
END:STANDARD
END:VTIMEZONE
BEGIN:VEVENT
DTSTART;TZID=UTC:20170422T173000
DTEND;TZID=UTC:20170422T203000
DTSTAMP:20260424T055010
CREATED:20170420T021922Z
LAST-MODIFIED:20170420T021922Z
UID:1713-1492882200-1492893000@www.idahocharitableevents.org
SUMMARY:Forces of Nature
DESCRIPTION:Join on Earth Day at FORCES OF NATURE! \nYour Portneuf Valley Bruisers will be teaming up with their coaches to take on the Idaho Wildfire team of Nampa for a co-ed roller derby bout on Saturday\, April 22 at H&R Hockey Rink in Pocatello. \nDoors open at 5:30pm\nBout begins at 6:00pm \nPVB will be donating a portion of this bouts proceeds to the Portneuf Greenway Foundation. Come out and support your local team for a great cause! \nBeer Garden will be available for guests 21+
URL:https://www.idahocharitableevents.org/event/forces-of-nature/
LOCATION:H&R Hockey Rink\, 363 Poleline Rd\, Pocatello\, ID\, 83201\, United States
GEO:42.8826602;-112.4657422
X-APPLE-STRUCTURED-LOCATION;VALUE=URI;X-ADDRESS=H&R Hockey Rink 363 Poleline Rd Pocatello ID 83201 United States;X-APPLE-RADIUS=500;X-TITLE=363 Poleline Rd:geo:-112.4657422,42.8826602
END:VEVENT
END:VCALENDAR