BEGIN:VCALENDAR
VERSION:2.0
PRODID:-//Idaho Charitable Events Connecting Charities and Events - ECPv5.9.1//NONSGML v1.0//EN
CALSCALE:GREGORIAN
METHOD:PUBLISH
X-WR-CALNAME:Idaho Charitable Events Connecting Charities and Events
X-ORIGINAL-URL:https://www.idahocharitableevents.org
X-WR-CALDESC:Events for Idaho Charitable Events Connecting Charities and Events
BEGIN:VTIMEZONE
TZID:UTC
BEGIN:STANDARD
TZOFFSETFROM:+0000
TZOFFSETTO:+0000
TZNAME:UTC
DTSTART:20170101T000000
END:STANDARD
END:VTIMEZONE
BEGIN:VEVENT
DTSTART;TZID=UTC:20170501T080000
DTEND;TZID=UTC:20170501T173000
DTSTAMP:20260424T072427
CREATED:20170420T032051Z
LAST-MODIFIED:20170420T032051Z
UID:1723-1493625600-1493659800@www.idahocharitableevents.org
SUMMARY:Friends of the Garden City Library Spring Book Sale
DESCRIPTION:It’s time for the Friends of the Garden City Library’s annual Spring Book Sale! Don’t miss this opportunity to find great bargains on books while supporting your library! Sale will take place in the lobby at the Garden City library on Friday 8-5:30\, Saturday 9:30-4\, and Monday 8-5:30.
URL:https://www.idahocharitableevents.org/event/friends-of-the-garden-city-library-spring-book-sale-2/
LOCATION:Garden City Library\, 6015 N Glenwood St\, Garden City\, ID\, 83714\, United States
GEO:43.6601998;-116.2807169
X-APPLE-STRUCTURED-LOCATION;VALUE=URI;X-ADDRESS=Garden City Library 6015 N Glenwood St Garden City ID 83714 United States;X-APPLE-RADIUS=500;X-TITLE=6015 N Glenwood St:geo:-116.2807169,43.6601998
END:VEVENT
END:VCALENDAR