BEGIN:VCALENDAR
VERSION:2.0
PRODID:-//Idaho Charitable Events Connecting Charities and Events - ECPv5.9.1//NONSGML v1.0//EN
CALSCALE:GREGORIAN
METHOD:PUBLISH
X-WR-CALNAME:Idaho Charitable Events Connecting Charities and Events
X-ORIGINAL-URL:https://www.idahocharitableevents.org
X-WR-CALDESC:Events for Idaho Charitable Events Connecting Charities and Events
BEGIN:VTIMEZONE
TZID:UTC
BEGIN:STANDARD
TZOFFSETFROM:+0000
TZOFFSETTO:+0000
TZNAME:UTC
DTSTART:20170101T000000
END:STANDARD
END:VTIMEZONE
BEGIN:VEVENT
DTSTART;TZID=UTC:20170504T120000
DTEND;TZID=UTC:20170505T000000
DTSTAMP:20260424T153710
CREATED:20170411T011553Z
LAST-MODIFIED:20170411T011553Z
UID:1592-1493899200-1493942400@www.idahocharitableevents.org
SUMMARY:Idaho Gives
DESCRIPTION:Idaho Gives is a statewide\, 24-hour giving day taking place on May 4th\, 2017\, and it’s all online! Every year on one amazing day\, people across our state come together for Idaho nonprofits. It’s a day to celebrate the awesome work of Idaho’s nonprofits and benefit from the power of many. Idaho comes together—be a part of it! \nHelp us raise $1.2 million\, $1 for every Idahoan over the age of 18\, this year and support our state’s nonprofits! Since the inaugural event in 2013\, Idahoans have raised more than $2.3 million for participating organizations\, one donation at a time. \nIdahoGives.org provides an easy-to-use platform for donors to search\, support and donate to Idaho nonprofits. \n*Idaho Gives is a program of the Idaho Nonprofit Center*
URL:https://www.idahocharitableevents.org/event/idaho-gives-2/
LOCATION:idahogives.org\, idahogives.org
END:VEVENT
END:VCALENDAR