BEGIN:VCALENDAR
VERSION:2.0
PRODID:-//Idaho Charitable Events Connecting Charities and Events - ECPv5.9.1//NONSGML v1.0//EN
CALSCALE:GREGORIAN
METHOD:PUBLISH
X-WR-CALNAME:Idaho Charitable Events Connecting Charities and Events
X-ORIGINAL-URL:https://www.idahocharitableevents.org
X-WR-CALDESC:Events for Idaho Charitable Events Connecting Charities and Events
BEGIN:VTIMEZONE
TZID:UTC
BEGIN:STANDARD
TZOFFSETFROM:+0000
TZOFFSETTO:+0000
TZNAME:UTC
DTSTART:20170101T000000
END:STANDARD
END:VTIMEZONE
BEGIN:VEVENT
DTSTART;TZID=UTC:20170422T160000
DTEND;TZID=UTC:20170422T220000
DTSTAMP:20260424T073600
CREATED:20160817T092221Z
LAST-MODIFIED:20161005T225013Z
UID:625-1492876800-1492898400@www.idahocharitableevents.org
SUMMARY:Idaho Green Fest
DESCRIPTION:The Idaho Green Fest is a free\, all ages community festival that celebrates the Earth and our sustainable economy by creating space for community members to have an amazing time while enjoying eco-conscious presentations and exhibits\, live music\, performance arts\, and local food and drinks. The driving force of the Idaho Green Fest is to bring people together to learn from each other\, encourage the active movers and shakers to keep moving and shaking\, and raise awareness about resources\, services and products that promote healthier\, more ecologically sound lifestyles.
URL:https://www.idahocharitableevents.org/event/idaho-green-fest/
LOCATION:8th & Bannock area of downtown Boise!
ATTACH;FMTTYPE=image/jpeg:https://www.idahocharitableevents.org/wp-content/uploads/2016/08/idahogreenfest.jpg
ORGANIZER;CN="":MAILTO:idahogreenfest@gmail.com
END:VEVENT
END:VCALENDAR