BEGIN:VCALENDAR
VERSION:2.0
PRODID:-//Idaho Charitable Events Connecting Charities and Events - ECPv5.9.1//NONSGML v1.0//EN
CALSCALE:GREGORIAN
METHOD:PUBLISH
X-WR-CALNAME:Idaho Charitable Events Connecting Charities and Events
X-ORIGINAL-URL:https://www.idahocharitableevents.org
X-WR-CALDESC:Events for Idaho Charitable Events Connecting Charities and Events
BEGIN:VTIMEZONE
TZID:UTC
BEGIN:STANDARD
TZOFFSETFROM:+0000
TZOFFSETTO:+0000
TZNAME:UTC
DTSTART:20180101T000000
END:STANDARD
END:VTIMEZONE
BEGIN:VEVENT
DTSTART;TZID=UTC:20180224T100000
DTEND;TZID=UTC:20180224T180000
DTSTAMP:20260424T204513
CREATED:20180224T012146Z
LAST-MODIFIED:20180224T012146Z
UID:2610-1519466400-1519495200@www.idahocharitableevents.org
SUMMARY:Kid's Fair
DESCRIPTION:Since 1998\, Kid’s Fair has created a fun\, interactive setting for kids and parents.\nJump around\, and choose from a variety of bouncy houses that best fits your sense of adventure.\nBe a superhero for a day\, or your favorite animal when you get your face painted.\nBump fists and take pictures with Garfield and Cheer Bear.\nIf your feeling brave enough\, touch a boa constrictor\,  hold a baby lizard\, and feed an old grumpy turtle.\nThere will be a number of exciting stage performances featured throughout the day: Magic show\, Taekwondo\, Clowns\,  Dance Performances\,  and more.\nBe sure to stop by the many local vendor booths for free stuff\, and play games for big prizes.
URL:https://www.idahocharitableevents.org/event/kids-fair/
LOCATION:Expo Idaho\, 5610 N Glenwood St\, Boise\, ID\, 83714\, United States
ATTACH;FMTTYPE=image/png:https://www.idahocharitableevents.org/wp-content/uploads/2018/02/Kids-Fair.png
ORGANIZER;CN="Cumulus%20Radio":MAILTO:nick.coe@cumulus.com
GEO:43.6500649;-116.2726011
X-APPLE-STRUCTURED-LOCATION;VALUE=URI;X-ADDRESS=Expo Idaho 5610 N Glenwood St Boise ID 83714 United States;X-APPLE-RADIUS=500;X-TITLE=5610 N Glenwood St:geo:-116.2726011,43.6500649
END:VEVENT
END:VCALENDAR