BEGIN:VCALENDAR
VERSION:2.0
PRODID:-//Idaho Charitable Events Connecting Charities and Events - ECPv5.9.1//NONSGML v1.0//EN
CALSCALE:GREGORIAN
METHOD:PUBLISH
X-WR-CALNAME:Idaho Charitable Events Connecting Charities and Events
X-ORIGINAL-URL:https://www.idahocharitableevents.org
X-WR-CALDESC:Events for Idaho Charitable Events Connecting Charities and Events
BEGIN:VTIMEZONE
TZID:UTC
BEGIN:STANDARD
TZOFFSETFROM:+0000
TZOFFSETTO:+0000
TZNAME:UTC
DTSTART:20170101T000000
END:STANDARD
END:VTIMEZONE
BEGIN:VEVENT
DTSTART;TZID=UTC:20170421T180000
DTEND;TZID=UTC:20170421T210000
DTSTAMP:20260424T135551
CREATED:20170329T013651Z
LAST-MODIFIED:20170329T013651Z
UID:1316-1492797600-1492808400@www.idahocharitableevents.org
SUMMARY:Lava Hot Springs Folk Festival
DESCRIPTION:Join us for the 2nd Annual downtown Lava Hot Springs Folk Festival. The event will feature songwriter/singers playing at different downtown businesses. All proceeds will go to the Lava Hot Springs Elementary School Music Program. \n  \nEntrance Donation Appreciated and Raffle Ticket Sales Available. All proceeds to benefit the Lava Hot Springs Elementary School Music Program.
URL:https://www.idahocharitableevents.org/event/lava-hot-springs-folk-festival/2017-04-21/
LOCATION:Lava Hot Springs\, Main Street\, Lava Hot Springs\, ID\, 83246\, United States
GEO:42.6192611;-112.0125477
X-APPLE-STRUCTURED-LOCATION;VALUE=URI;X-ADDRESS=Lava Hot Springs Main Street Lava Hot Springs ID 83246 United States;X-APPLE-RADIUS=500;X-TITLE=Main Street:geo:-112.0125477,42.6192611
END:VEVENT
END:VCALENDAR