BEGIN:VCALENDAR
VERSION:2.0
PRODID:-//Idaho Charitable Events Connecting Charities and Events - ECPv5.9.1//NONSGML v1.0//EN
CALSCALE:GREGORIAN
METHOD:PUBLISH
X-WR-CALNAME:Idaho Charitable Events Connecting Charities and Events
X-ORIGINAL-URL:https://www.idahocharitableevents.org
X-WR-CALDESC:Events for Idaho Charitable Events Connecting Charities and Events
BEGIN:VTIMEZONE
TZID:UTC
BEGIN:STANDARD
TZOFFSETFROM:+0000
TZOFFSETTO:+0000
TZNAME:UTC
DTSTART:20170101T000000
END:STANDARD
END:VTIMEZONE
BEGIN:VEVENT
DTSTART;TZID=UTC:20170428T180000
DTEND;TZID=UTC:20170428T230000
DTSTAMP:20260424T054207
CREATED:20170329T021819Z
LAST-MODIFIED:20170329T022108Z
UID:1342-1493402400-1493420400@www.idahocharitableevents.org
SUMMARY:Light the Way Dinner Auction
DESCRIPTION:A night of fun\, food\, and fundraising to benefit the American Childhood Cancer Organization Inland Northwest\, a 501 c3 that serves local children with cancer and their families.
URL:https://www.idahocharitableevents.org/event/light-the-way-dinner-auction/
LOCATION:Lincoln Center\, 1316 N Lincoln St\, Spokane\, WA\, 99201\, United States
GEO:47.6696019;-117.4247296
X-APPLE-STRUCTURED-LOCATION;VALUE=URI;X-ADDRESS=Lincoln Center 1316 N Lincoln St Spokane WA 99201 United States;X-APPLE-RADIUS=500;X-TITLE=1316 N Lincoln St:geo:-117.4247296,47.6696019
END:VEVENT
END:VCALENDAR