BEGIN:VCALENDAR
VERSION:2.0
PRODID:-//Idaho Charitable Events Connecting Charities and Events - ECPv5.9.1//NONSGML v1.0//EN
CALSCALE:GREGORIAN
METHOD:PUBLISH
X-WR-CALNAME:Idaho Charitable Events Connecting Charities and Events
X-ORIGINAL-URL:https://www.idahocharitableevents.org
X-WR-CALDESC:Events for Idaho Charitable Events Connecting Charities and Events
BEGIN:VTIMEZONE
TZID:UTC
BEGIN:STANDARD
TZOFFSETFROM:+0000
TZOFFSETTO:+0000
TZNAME:UTC
DTSTART:20170101T000000
END:STANDARD
END:VTIMEZONE
BEGIN:VEVENT
DTSTART;TZID=UTC:20170406T170000
DTEND;TZID=UTC:20170406T210000
DTSTAMP:20260425T132212
CREATED:20170329T012327Z
LAST-MODIFIED:20170329T012327Z
UID:1307-1491498000-1491512400@www.idahocharitableevents.org
SUMMARY:LLS Art Benefit
DESCRIPTION:Come to an Art Benefit on First Thursday for the Leukemia and Lymphoma Society sponsored by LLS Woman of the Year Candidate Kaitlin Tookey Palmer and artists Chi E Shenam Westin and Jessica Tookey at the Alaska Center. \nArtists Jessica Tookey\, Chi E Shenam Westin\, David Day\, Byron Shexnayder\, Joseph Pacheco\, Renae Hill\, and Judson Cottrell and photographer Allan R. Ansell will have art available to purchase. Come out at help support the end to cancer. \nLive performances from The Lost Men at 5-7 pm and NickNervous at 7-9 pm. Both groups are up and coming musicians in the Boise area. The Lost Men have been nominated as Best in the Treasure Valley (and once more people know about NickNervous\, they will definitely be nominated). You don’t want to miss this!
URL:https://www.idahocharitableevents.org/event/lls-art-benefit/
LOCATION:The Alaskan Center\, 1020 W. Main St. Boise\, ID 83702\, Boise\, ID\, 83702\, United States
GEO:43.6174314;-116.2063683
X-APPLE-STRUCTURED-LOCATION;VALUE=URI;X-ADDRESS=The Alaskan Center 1020 W. Main St. Boise ID 83702 Boise ID 83702 United States;X-APPLE-RADIUS=500;X-TITLE=1020 W. Main St. Boise\, ID 83702:geo:-116.2063683,43.6174314
END:VEVENT
END:VCALENDAR