BEGIN:VCALENDAR
VERSION:2.0
PRODID:-//Idaho Charitable Events Connecting Charities and Events - ECPv5.9.1//NONSGML v1.0//EN
CALSCALE:GREGORIAN
METHOD:PUBLISH
X-WR-CALNAME:Idaho Charitable Events Connecting Charities and Events
X-ORIGINAL-URL:https://www.idahocharitableevents.org
X-WR-CALDESC:Events for Idaho Charitable Events Connecting Charities and Events
BEGIN:VTIMEZONE
TZID:America/Boise
BEGIN:DAYLIGHT
TZOFFSETFROM:-0700
TZOFFSETTO:-0600
TZNAME:MDT
DTSTART:20190310T090000
END:DAYLIGHT
BEGIN:STANDARD
TZOFFSETFROM:-0600
TZOFFSETTO:-0700
TZNAME:MST
DTSTART:20191103T080000
END:STANDARD
END:VTIMEZONE
BEGIN:VEVENT
DTSTART;TZID=America/Boise:20190608T120000
DTEND;TZID=America/Boise:20190608T180000
DTSTAMP:20260423T100533
CREATED:20190430T175217Z
LAST-MODIFIED:20190430T175217Z
UID:3221-1559995200-1560016800@www.idahocharitableevents.org
SUMMARY:Paint a Bowl for The Idaho Foodbank's Summer Empty Bowl event
DESCRIPTION:Come join us in painting a bowl on Saturday June 8th at The Village in Meridian\, in preparation for the upcoming Idaho Foodbank’s Summer Empty Bowl event. We will have all the of supplies you will need to paint a bowl of your choice\, which will then be donated to The Idaho Foodbank’s fundraiser. Please purchase your tickets and select which bowl and time so we can be prepared for when you come and paint with us. #awaywithclaystudio #idahofoodbank #emptybowls
URL:https://www.idahocharitableevents.org/event/paint-bowl-for-the-idaho-foodbanks-summer-empty-bowl-event/
LOCATION:The Village at Meridian\, 3597 East Monarch Sky Lane #225\, Meridian\, ID\, 83646\, United States
ATTACH;FMTTYPE=image/jpeg:https://www.idahocharitableevents.org/wp-content/uploads/2019/04/Paint-a-Bowl-for-The-Idaho-Foodbanks-Summer-Empty-Bowl-event.jpeg
ORGANIZER;CN="A%20Way%20With%20Clay":MAILTO:info@awaywithclaystudio.com
GEO:43.6208703;-116.3492707
X-APPLE-STRUCTURED-LOCATION;VALUE=URI;X-ADDRESS=The Village at Meridian 3597 East Monarch Sky Lane #225 Meridian ID 83646 United States;X-APPLE-RADIUS=500;X-TITLE=3597 East Monarch Sky Lane #225:geo:-116.3492707,43.6208703
END:VEVENT
END:VCALENDAR