BEGIN:VCALENDAR
VERSION:2.0
PRODID:-//Idaho Charitable Events Connecting Charities and Events - ECPv5.9.1//NONSGML v1.0//EN
CALSCALE:GREGORIAN
METHOD:PUBLISH
X-WR-CALNAME:Idaho Charitable Events Connecting Charities and Events
X-ORIGINAL-URL:https://www.idahocharitableevents.org
X-WR-CALDESC:Events for Idaho Charitable Events Connecting Charities and Events
BEGIN:VTIMEZONE
TZID:UTC
BEGIN:STANDARD
TZOFFSETFROM:+0000
TZOFFSETTO:+0000
TZNAME:UTC
DTSTART:20170101T000000
END:STANDARD
END:VTIMEZONE
BEGIN:VEVENT
DTSTART;TZID=UTC:20170422T193000
DTEND;TZID=UTC:20170422T193000
DTSTAMP:20260422T000125
CREATED:20170420T011750Z
LAST-MODIFIED:20170420T011750Z
UID:1691-1492889400-1492889400@www.idahocharitableevents.org
SUMMARY:Party like the Gatsby: Ellie Shaw\, David Gluck\, Camden Hughes and Retreads in Garden City
DESCRIPTION:PARTY LIKE THE GATSBY: ELLIE SHAW\, DAVID GLUCK\, CAMDEN HUGHES AND RETREADS\nApril 22nd\, 2017 General seating: $25 ($30 at the door) Preferred seating: $30 ($35 at the door) Doors at 6:30pm\, show at 7:30pm   Party Like the Gatsby! Join us in the beautiful Sapphire Room for a gala fundraising event for Idaho Arts Charter School “arts” programs featuring Ellie Shaw\, David Gluck\, Camden Hughes and the Retreads.  Live music in BAR365 beginning at 5pm! The Sapphire Room has a full food\, bar and signature cocktail menu that is served before and during the show. This is an all ages event with FREE\, convenient parking. Please join us in the Riverside Grill before the show! Show your server your ticket to get ‘buy one\, get one free’ entrees! Boise’s best kept secret! The Sapphire Room at The Riverside Hotel\, 2900 Chinden Blvd. Garden City\, Idaho 83714. — Need assistance? WE CAN HELP! Please call 208-331-4930 to order over the phone. Phone orders are available from 9am – 6pm\, Monday – Friday. If you need help after-hours or on weekends\, please email music@riversideboise.com (fastest) or leave a voicemail at 208-331-4930 and we’ll get back to you as soon as we can. Thank you for supporting local live music! \n\nCost: Prices start at $25
URL:https://www.idahocharitableevents.org/event/party-like-the-gatsby-ellie-shaw-david-gluck-camden-hughes-and-retreads-in-garden-city/
LOCATION:Riverside Hotel\, 2900 W Chinden Blvd\, Boise\, ID\, 83714\, United States
GEO:43.6214531;-116.234725
X-APPLE-STRUCTURED-LOCATION;VALUE=URI;X-ADDRESS=Riverside Hotel 2900 W Chinden Blvd Boise ID 83714 United States;X-APPLE-RADIUS=500;X-TITLE=2900 W Chinden Blvd:geo:-116.234725,43.6214531
END:VEVENT
END:VCALENDAR