BEGIN:VCALENDAR
VERSION:2.0
PRODID:-//Idaho Charitable Events Connecting Charities and Events - ECPv5.9.1//NONSGML v1.0//EN
CALSCALE:GREGORIAN
METHOD:PUBLISH
X-WR-CALNAME:Idaho Charitable Events Connecting Charities and Events
X-ORIGINAL-URL:https://www.idahocharitableevents.org
X-WR-CALDESC:Events for Idaho Charitable Events Connecting Charities and Events
BEGIN:VTIMEZONE
TZID:UTC
BEGIN:STANDARD
TZOFFSETFROM:+0000
TZOFFSETTO:+0000
TZNAME:UTC
DTSTART:20170101T000000
END:STANDARD
END:VTIMEZONE
BEGIN:VEVENT
DTSTART;TZID=UTC:20170429T090000
DTEND;TZID=UTC:20170429T110000
DTSTAMP:20260424T070115
CREATED:20170411T014922Z
LAST-MODIFIED:20170411T015009Z
UID:1611-1493456400-1493463600@www.idahocharitableevents.org
SUMMARY:Run for Autism 5k Run/Walk and Family Stroll
DESCRIPTION:Join us for the annual Run for Autism. 5K Run/Walk and Family Stroll \nEarly Bird Registration Fees;\nIndividual registration – $22\nTeam members (group of 4 or more) – $18 (per team member)\nYouth (ages 5-12) – $15\nAutistic Individual – $7 \nSTANDARD REGISTRATION will be APRIL 1\, 2017- APRIL 27\, 2017 \nStandard Registration Fees;\nIndividual Registration – $25\nTeam members (group of 4 or more) -$21 (per team member)\nYouth (ages 5-12) – $18\nAutistic Individual – $7 \nONLINE REGISTRATION CLOSES at 11:59PM on APRIL 26\, 2017 \nT-SHIRT PICK UP; \nThursday\, April 27\, 2017 11:00am-1:00pm and 3:00pm-6:00pm\nShu’s Idaho Running Company\n1758 W State Street Boise ID 83702 \nFriday\, April 28\, 2017 from 11:00am-6:00pm\nSt Luke’s Meridian Medical Center\nParking Lot Behind the ER \n**Each person registered must submit a signed waiver in order to pick up their shirt.** \nYou can email it to us at autism.asatvc@yahoo.com\, or bring a hard copy to the t-shirt pick-up. \nThe waiver form is here: www.asatvc.org/run-for-autism/waiver/.
URL:https://www.idahocharitableevents.org/event/run-for-autism-5k-runwalk-and-family-stroll/
LOCATION:Veterans Memorial State Park\, 930 N Veterans Memorial Parkway\, Boise\, ID\, 83703\, United States
GEO:43.6392924;-116.2363195
X-APPLE-STRUCTURED-LOCATION;VALUE=URI;X-ADDRESS=Veterans Memorial State Park 930 N Veterans Memorial Parkway Boise ID 83703 United States;X-APPLE-RADIUS=500;X-TITLE=930 N Veterans Memorial Parkway:geo:-116.2363195,43.6392924
END:VEVENT
END:VCALENDAR