BEGIN:VCALENDAR
VERSION:2.0
PRODID:-//Idaho Charitable Events Connecting Charities and Events - ECPv5.9.1//NONSGML v1.0//EN
CALSCALE:GREGORIAN
METHOD:PUBLISH
X-WR-CALNAME:Idaho Charitable Events Connecting Charities and Events
X-ORIGINAL-URL:https://www.idahocharitableevents.org
X-WR-CALDESC:Events for Idaho Charitable Events Connecting Charities and Events
BEGIN:VTIMEZONE
TZID:UTC
BEGIN:STANDARD
TZOFFSETFROM:+0000
TZOFFSETTO:+0000
TZNAME:UTC
DTSTART:20170101T000000
END:STANDARD
END:VTIMEZONE
BEGIN:VEVENT
DTSTART;TZID=UTC:20170422T190000
DTEND;TZID=UTC:20170422T220000
DTSTAMP:20260424T022709
CREATED:20170411T013225Z
LAST-MODIFIED:20170411T013225Z
UID:1603-1492887600-1492898400@www.idahocharitableevents.org
SUMMARY:TAM Poetry Slam
DESCRIPTION:Poets take the mic and compete in a showdown of original spoken word artistry. Everyone from fast-talking rappers to rambling romantics challenge each other while audience judges tally up the points! $2 at the door\, seating is limited. Doors open at 6:30pm.\nRegister to participate by emailing poetryslam@theartmuseum.org
URL:https://www.idahocharitableevents.org/event/tam-poetry-slam/
LOCATION:The Art Museum of Eastern Idaho\, 300 S Capital Ave\, Idaho Falls\, ID\, 83402\, United States
GEO:43.4901383;-112.0454807
X-APPLE-STRUCTURED-LOCATION;VALUE=URI;X-ADDRESS=The Art Museum of Eastern Idaho 300 S Capital Ave Idaho Falls ID 83402 United States;X-APPLE-RADIUS=500;X-TITLE=300 S Capital Ave:geo:-112.0454807,43.4901383
END:VEVENT
END:VCALENDAR