BEGIN:VCALENDAR
VERSION:2.0
PRODID:-//Idaho Charitable Events Connecting Charities and Events - ECPv5.9.1//NONSGML v1.0//EN
CALSCALE:GREGORIAN
METHOD:PUBLISH
X-WR-CALNAME:Idaho Charitable Events Connecting Charities and Events
X-ORIGINAL-URL:https://www.idahocharitableevents.org
X-WR-CALDESC:Events for Idaho Charitable Events Connecting Charities and Events
BEGIN:VTIMEZONE
TZID:UTC
BEGIN:STANDARD
TZOFFSETFROM:+0000
TZOFFSETTO:+0000
TZNAME:UTC
DTSTART:20180101T000000
END:STANDARD
END:VTIMEZONE
BEGIN:VEVENT
DTSTART;TZID=UTC:20180427T100000
DTEND;TZID=UTC:20180427T190000
DTSTAMP:20260424T172347
CREATED:20180410T101515Z
LAST-MODIFIED:20180410T101708Z
UID:2671-1524823200-1524855600@www.idahocharitableevents.org
SUMMARY:The 8th Annual Sprout Film Festival presented by The Arc Idaho
DESCRIPTION:The Sprout Film Festival focuses exclusively on films that celebrate the diverse lives and creativity of people with intellectual and developmental disabilities (I/DD) and strives to challenge assumptions and breakdown stereotypes. By introducing powerful\, thought-provoking films from around the world to new and ever-more inclusive audiences\, we hope to promote greater acceptance\, celebrate difference and light the spark to help make the invisible\, visible.  \nSprout Trailer\nvimeo.com/262443566 \nJoin us in watching some amazing films and raising awareness about people with intellectual and developmental disabilities. You won’t want to miss this inspiring\, heartwarming event! \nTickets are $10.00 general admission\, $8.00 seniors\, students\, and people with disabilities. Available through The Arc or The Egyptian Theatre.
URL:https://www.idahocharitableevents.org/event/the-8th-annual-sprout-film-festival-presented-by-the-arc-idaho/
LOCATION:The Egyptian Theater\, 700 W Main St\, Boise\, ID\, 83702\, United States
ATTACH;FMTTYPE=image/jpeg:https://www.idahocharitableevents.org/wp-content/uploads/2018/04/2018_poster_Arc_Idaho-min.jpg
GEO:43.615324;-116.202371
X-APPLE-STRUCTURED-LOCATION;VALUE=URI;X-ADDRESS=The Egyptian Theater 700 W Main St Boise ID 83702 United States;X-APPLE-RADIUS=500;X-TITLE=700 W Main St:geo:-116.202371,43.615324
END:VEVENT
END:VCALENDAR