BEGIN:VCALENDAR
VERSION:2.0
PRODID:-//Idaho Charitable Events Connecting Charities and Events - ECPv5.9.1//NONSGML v1.0//EN
CALSCALE:GREGORIAN
METHOD:PUBLISH
X-WR-CALNAME:Idaho Charitable Events Connecting Charities and Events
X-ORIGINAL-URL:https://www.idahocharitableevents.org
X-WR-CALDESC:Events for Idaho Charitable Events Connecting Charities and Events
BEGIN:VTIMEZONE
TZID:UTC
BEGIN:STANDARD
TZOFFSETFROM:+0000
TZOFFSETTO:+0000
TZNAME:UTC
DTSTART:20170101T000000
END:STANDARD
END:VTIMEZONE
BEGIN:VEVENT
DTSTART;TZID=UTC:20171202T140000
DTEND;TZID=UTC:20171202T140000
DTSTAMP:20260425T051036
CREATED:20171006T005133Z
LAST-MODIFIED:20171006T005235Z
UID:2565-1512223200-1512223200@www.idahocharitableevents.org
SUMMARY:The Best Christmas Pageant Ever by Barbara Robinson
DESCRIPTION:Treasure Valley Children’s Theater\, The Village at Meridian\, The Meridian Press and Mountain America Credit Union are pleased to present the play “The Best Christmas Pageant Ever” by Barbara Robinson\, directed by Autumn Kersey. \nThe story: In this hilarious Christmas classic\, a couple struggling to put on a church Christmas pageant is faced with casting the Herdman kids–probably the most inventively awful kids in history. You won’t believe the mayhem – and the fun – when the Herdmans collide with the Christmas story head on.  \nRelevant themes: Family Dynamics\, Bullying\, Poverty\, Accepting Differences\, Christianity\, Role Modeling\, Compassion and Courage.
URL:https://www.idahocharitableevents.org/event/the-best-christmas-pageant-ever-by-barbara-robinson-2/
LOCATION:Meridian Middle School\, 1507 W. 8th Street\, Meridian\, ID\, United States
ORGANIZER;CN="Treasure%20Valley%20Children%27s%20Theater":MAILTO:info@treasurevalleychildrenstheater.com
GEO:43.6173182;-116.4043414
X-APPLE-STRUCTURED-LOCATION;VALUE=URI;X-ADDRESS=Meridian Middle School 1507 W. 8th Street Meridian ID United States;X-APPLE-RADIUS=500;X-TITLE=1507 W. 8th Street:geo:-116.4043414,43.6173182
END:VEVENT
END:VCALENDAR