BEGIN:VCALENDAR
VERSION:2.0
PRODID:-//Idaho Charitable Events Connecting Charities and Events - ECPv5.9.1//NONSGML v1.0//EN
CALSCALE:GREGORIAN
METHOD:PUBLISH
X-WR-CALNAME:Idaho Charitable Events Connecting Charities and Events
X-ORIGINAL-URL:https://www.idahocharitableevents.org
X-WR-CALDESC:Events for Idaho Charitable Events Connecting Charities and Events
BEGIN:VTIMEZONE
TZID:UTC
BEGIN:STANDARD
TZOFFSETFROM:+0000
TZOFFSETTO:+0000
TZNAME:UTC
DTSTART:20170101T000000
END:STANDARD
END:VTIMEZONE
BEGIN:VEVENT
DTSTART;VALUE=DATE:20170504
DTEND;VALUE=DATE:20170505
DTSTAMP:20260424T124244
CREATED:20170427T011024Z
LAST-MODIFIED:20170427T011024Z
UID:1802-1493856000-1493942399@www.idahocharitableevents.org
SUMMARY:The BRR Foundation and Idaho Gives Day
DESCRIPTION:The BRR Foundation is participating in Idaho Gives Day! On May 4\, 2017\, go to https://www.idahogives.org/organizations/boise-regional-realtors-foundation to donate. \nThe mission of the Boise Regional REALTORS® Foundation is to improve the quality of life in the Boise region through housing-related projects and grants. Since our inception as a 501(c)(3) nonprofit in 1995\, our REALTOR® and Affiliate members have donated more than $1.6 million to local projects and programs. Through the REALTOR® Outreach Committee\, our members have volunteered to build houses\, rake leaves\, paint houses and feed the hungry. They have gathered food\, school supplies\, and other necessities for those in need. \nThe BRR Foundation is the charitable arm of Boise Regional REALTORS® (BRR; formerly Ada County Association of REALTORS® or “ACAR”) which represents more than 4\,000 real estate professionals throughout the Boise region\, providing resources to help members conduct their businesses professionally\, ethically and successfully. \nWe are real estate professionals giving back to our community.
URL:https://www.idahocharitableevents.org/event/the-brr-foundation-and-idaho-gives-day/
LOCATION:Boise Regional Realtors\, 9550 W Bethel Ct\, Boise\, ID\, 83709\, United States
ORGANIZER;CN="Boise%20Regional%20Realtors":MAILTO:info@boirealtors.com
GEO:43.6063621;-116.301114
X-APPLE-STRUCTURED-LOCATION;VALUE=URI;X-ADDRESS=Boise Regional Realtors 9550 W Bethel Ct Boise ID 83709 United States;X-APPLE-RADIUS=500;X-TITLE=9550 W Bethel Ct:geo:-116.301114,43.6063621
END:VEVENT
END:VCALENDAR