BEGIN:VCALENDAR
VERSION:2.0
PRODID:-//Idaho Charitable Events Connecting Charities and Events - ECPv5.9.1//NONSGML v1.0//EN
CALSCALE:GREGORIAN
METHOD:PUBLISH
X-WR-CALNAME:Idaho Charitable Events Connecting Charities and Events
X-ORIGINAL-URL:https://www.idahocharitableevents.org
X-WR-CALDESC:Events for Idaho Charitable Events Connecting Charities and Events
BEGIN:VTIMEZONE
TZID:UTC
BEGIN:STANDARD
TZOFFSETFROM:+0000
TZOFFSETTO:+0000
TZNAME:UTC
DTSTART:20170101T000000
END:STANDARD
END:VTIMEZONE
BEGIN:VEVENT
DTSTART;TZID=UTC:20170407T080000
DTEND;TZID=UTC:20170407T170000
DTSTAMP:20260425T113905
CREATED:20170408T042203Z
LAST-MODIFIED:20170408T042203Z
UID:1394-1491552000-1491584400@www.idahocharitableevents.org
SUMMARY:The Swiveltones LIVE Benefit Concert in Garden City
DESCRIPTION:The Swiveltones are getting together and rocking the house at the Visual Arts Collective. This legendary product-of-Idaho band brings you original rock-punk-soul infused jams\, sure to leave you dancing your heart out. Proceeds benefit SnowSchool\, a program of Winter Wildlands Alliance. Dancing\, raffle\, drinks. Come down for a great cause and great concert!
URL:https://www.idahocharitableevents.org/event/the-swiveltones-live-benefit-concert-in-garden-city/
LOCATION:Visual Arts Collective\, 3638 Osage Street\, Garden City\, ID\, 83714\, United States
GEO:43.6252231;-116.2411537
X-APPLE-STRUCTURED-LOCATION;VALUE=URI;X-ADDRESS=Visual Arts Collective 3638 Osage Street Garden City ID 83714 United States;X-APPLE-RADIUS=500;X-TITLE=3638 Osage Street:geo:-116.2411537,43.6252231
END:VEVENT
END:VCALENDAR