BEGIN:VCALENDAR
VERSION:2.0
PRODID:-//Idaho Charitable Events Connecting Charities and Events - ECPv5.9.1//NONSGML v1.0//EN
CALSCALE:GREGORIAN
METHOD:PUBLISH
X-WR-CALNAME:Idaho Charitable Events Connecting Charities and Events
X-ORIGINAL-URL:https://www.idahocharitableevents.org
X-WR-CALDESC:Events for Idaho Charitable Events Connecting Charities and Events
BEGIN:VTIMEZONE
TZID:UTC
BEGIN:STANDARD
TZOFFSETFROM:+0000
TZOFFSETTO:+0000
TZNAME:UTC
DTSTART:20170101T000000
END:STANDARD
END:VTIMEZONE
BEGIN:VEVENT
DTSTART;TZID=UTC:20170502T093000
DTEND;TZID=UTC:20170502T100000
DTSTAMP:20260424T092302
CREATED:20170502T004530Z
LAST-MODIFIED:20170502T004530Z
UID:1836-1493717400-1493719200@www.idahocharitableevents.org
SUMMARY:Volunteer Orientation
DESCRIPTION:Family Advocates works to strengthen families and keep kids safe by empowering everyday people to protect and enrich the lives of youth. Volunteers are needed in both our Family Strengthening Programs and within our CASA Program as Guardian ad Litem.
URL:https://www.idahocharitableevents.org/event/volunteer-orientation/2017-05-02/
LOCATION:Family Advocates\, 3010 W State\, Boise\, ID\, 83703\, United States
ORGANIZER;CN="Family%20Advocates":MAILTO:information@strongandsafe.org​
GEO:43.6345084;-116.2266643
X-APPLE-STRUCTURED-LOCATION;VALUE=URI;X-ADDRESS=Family Advocates 3010 W State Boise ID 83703 United States;X-APPLE-RADIUS=500;X-TITLE=3010 W State:geo:-116.2266643,43.6345084
END:VEVENT
END:VCALENDAR